BEGIN:VCALENDAR
VERSION:2.0
PRODID:-//wp-events-plugin.com//7.2.3.1//EN
TZID:Europe/Berlin
X-WR-TIMEZONE:Europe/Berlin
BEGIN:VEVENT
UID:1899@hebammenpraxisluna.de
DTSTART;TZID=Europe/Berlin:20241012T180000
DTEND;TZID=Europe/Berlin:20241012T220000
DTSTAMP:20230907T144637Z
URL:https://www.hebammenpraxisluna.de/kurse/geburtsvorbereitung-paarkurs-s
 imone-kurs-a9-2024-2024-10-12/
SUMMARY:Geburtsvorbereitung Paarkurs - Simone - Kurs A9-2024
DESCRIPTION:[include-page id="93"]
CATEGORIES:Geburtsvorbereitung
END:VEVENT
BEGIN:VTIMEZONE
TZID:Europe/Berlin
X-LIC-LOCATION:Europe/Berlin
BEGIN:DAYLIGHT
DTSTART:20240331T030000
TZOFFSETFROM:+0100
TZOFFSETTO:+0200
TZNAME:CEST
END:DAYLIGHT
END:VTIMEZONE
END:VCALENDAR